BEGIN:VCALENDAR
VERSION:2.0
PRODID:-//wp-events-plugin.com//7.2.3.1//EN
TZID:Asia/Kolkata
X-WR-TIMEZONE:Asia/Kolkata
BEGIN:VEVENT
UID:46@hwp.arogyaworld.org
DTSTART;TZID=Asia/Kolkata:20260529T160000
DTEND;TZID=Asia/Kolkata:20260529T170000
DTSTAMP:20260128T090121Z
URL:https://hwp.arogyaworld.org/events/liver-health-webinar/
SUMMARY:Liver Health Webinar
DESCRIPTION:
ATTACH;FMTTYPE=image/jpeg:https://hwp.arogyaworld.org/wp-content/uploads/2
 026/01/5-Most-Important-Benefits-Of-Spirulina-For-The-Liver.webp
END:VEVENT
BEGIN:VTIMEZONE
TZID:Asia/Kolkata
X-LIC-LOCATION:Asia/Kolkata
BEGIN:STANDARD
DTSTART:20250529T160000
TZOFFSETFROM:+0530
TZOFFSETTO:+0530
TZNAME:IST
END:STANDARD
END:VTIMEZONE
END:VCALENDAR