BEGIN:VCALENDAR
VERSION:2.0
PRODID:-//wp-events-plugin.com//7.2.3.1//EN
TZID:Asia/Kolkata
X-WR-TIMEZONE:Asia/Kolkata
BEGIN:VEVENT
UID:52@hwp.arogyaworld.org
DTSTART;TZID=Asia/Kolkata:20261030T160000
DTEND;TZID=Asia/Kolkata:20261030T170000
DTSTAMP:20260128T093219Z
URL:https://hwp.arogyaworld.org/events/nutritional-well-being-webinar-2/
SUMMARY:Nutritional well-being Webinar
DESCRIPTION:
ATTACH;FMTTYPE=image/jpeg:https://hwp.arogyaworld.org/wp-content/uploads/2
 026/01/c424b3533f0af5a352fcb870721a2b0c.jpg
END:VEVENT
BEGIN:VTIMEZONE
TZID:Asia/Kolkata
X-LIC-LOCATION:Asia/Kolkata
BEGIN:STANDARD
DTSTART:20251030T160000
TZOFFSETFROM:+0530
TZOFFSETTO:+0530
TZNAME:IST
END:STANDARD
END:VTIMEZONE
END:VCALENDAR